BEGIN:VCALENDAR
VERSION:2.0
PRODID:-//jEvents 2.0 for Joomla//EN
CALSCALE:GREGORIAN
METHOD:PUBLISH
BEGIN:VTIMEZONE
TZID:Europe/Berlin
END:VTIMEZONE
BEGIN:VEVENT
UID:h0hii5h90marsmg7ltmp2i235a9jj138kr80ba2r70f3ud1leur13ch2tj@google.com
CATEGORIES:Voßwinkel
CREATED:20221116T201955
SUMMARY:JHV Stulkreis
DESCRIPTION:
DTSTAMP:20260419T213921Z
DTSTART;TZID=Europe/Berlin:20230905T193000
SEQUENCE:0
TRANSP:OPAQUE
END:VEVENT
END:VCALENDAR