BEGIN:VCALENDAR
VERSION:2.0
PRODID:-//jEvents 2.0 for Joomla//EN
CALSCALE:GREGORIAN
METHOD:PUBLISH
BEGIN:VTIMEZONE
TZID:Europe/Berlin
BEGIN:STANDARD
DTSTART:20201025T020000
RDATE:20210328T030000
TZOFFSETFROM:+0200
TZOFFSETTO:+0100
TZNAME:Europe/Berlin CET
END:STANDARD
BEGIN:DAYLIGHT
DTSTART:20200619T000000
RDATE:20201025T020000
TZOFFSETFROM:+0100
TZOFFSETTO:+0200
TZNAME:Europe/Berlin CEST
END:DAYLIGHT
END:VTIMEZONE
BEGIN:VEVENT
UID:mnko7vfb4mhb387torrhtr6kp6qlbkg4oknnb4f9v6gi81iqffmd5dsegs@google.com
CATEGORIES:Voßwinkel
CREATED:20201124T204436
SUMMARY:Schützenfest Voßwinkel
DESCRIPTION:
DTSTAMP:20260423T131418Z
DTSTART;TZID=Europe/Berlin;VALUE=DATE:20210620
DTEND;TZID=Europe/Berlin;VALUE=DATE:20210621
SEQUENCE:0
TRANSP:OPAQUE
END:VEVENT
END:VCALENDAR